Package: ORFik Version: 1.26.1 Command: chmod a+r ORFik -R && F:\biocbuild\bbs-3.20-bioc\R\bin\R.exe CMD build --keep-empty-dirs --no-resave-data ORFik StartedAt: 2025-01-27 20:47:34 -0500 (Mon, 27 Jan 2025) EndedAt: 2025-01-27 20:57:26 -0500 (Mon, 27 Jan 2025) EllapsedTime: 591.7 seconds RetCode: 0 Status: OK PackageFile: ORFik_1.26.1.tar.gz PackageFileSize: 3.191 MiB