Package: ORFik Version: 1.26.1 Command: rm -rf ORFik.buildbin-libdir && mkdir ORFik.buildbin-libdir && F:\biocbuild\bbs-3.20-bioc\R\bin\R.exe CMD INSTALL --build --library=ORFik.buildbin-libdir ORFik_1.26.1.tar.gz StartedAt: 2025-01-28 08:45:44 -0500 (Tue, 28 Jan 2025) EndedAt: 2025-01-28 08:48:42 -0500 (Tue, 28 Jan 2025) EllapsedTime: 177.9 seconds RetCode: 0 Status: OK PackageFile: ORFik_1.26.1.zip PackageFileSize: 5.175 MiB