Package: ORFik Version: 1.26.1 Command: /Library/Frameworks/R.framework/Resources/bin/R CMD check --install=check:ORFik.install-out.txt --library=/Library/Frameworks/R.framework/Resources/library --no-vignettes --timings ORFik_1.26.1.tar.gz StartedAt: 2025-01-28 07:47:06 -0500 (Tue, 28 Jan 2025) EndedAt: 2025-01-28 08:09:47 -0500 (Tue, 28 Jan 2025) EllapsedTime: 1360.5 seconds RetCode: 0 Status: WARNINGS CheckDir: ORFik.Rcheck Warnings: 1