Package: ORFik Version: 1.26.1 Command: /Library/Frameworks/R.framework/Resources/bin/R CMD INSTALL ORFik StartedAt: 2025-01-27 16:24:53 -0500 (Mon, 27 Jan 2025) EndedAt: 2025-01-27 16:26:12 -0500 (Mon, 27 Jan 2025) EllapsedTime: 79.7 seconds RetCode: 0 Status: OK