Package: ORFik Version: 1.26.1 Maintainer: Haakon Tjeldnes MaintainerEmail: hauken_heyken at hotmail.com git_url: https://git.bioconductor.org/packages/ORFik git_branch: RELEASE_3_20 git_last_commit: 92735a3 git_last_commit_date: 2024-12-13 07:48:02 -0500 (Fri, 13 Dec 2024)