Package: ORFhunteR Version: 1.14.0 Command: /home/biocbuild/R/R/bin/R CMD INSTALL ORFhunteR StartedAt: 2025-02-03 20:41:54 -0000 (Mon, 03 Feb 2025) EndedAt: 2025-02-03 20:42:54 -0000 (Mon, 03 Feb 2025) EllapsedTime: 59.3 seconds RetCode: 0 Status: OK