Package: ORFhunteR Version: 1.14.0 Command: rm -rf ORFhunteR.buildbin-libdir && mkdir ORFhunteR.buildbin-libdir && F:\biocbuild\bbs-3.20-bioc\R\bin\R.exe CMD INSTALL --build --library=ORFhunteR.buildbin-libdir ORFhunteR_1.14.0.tar.gz StartedAt: 2025-02-04 09:07:08 -0500 (Tue, 04 Feb 2025) EndedAt: 2025-02-04 09:08:01 -0500 (Tue, 04 Feb 2025) EllapsedTime: 52.8 seconds RetCode: 0 Status: OK PackageFile: ORFhunteR_1.14.0.zip PackageFileSize: 1.752 MiB