Package: ORFhunteR Version: 1.14.0 Command: /home/biocbuild/bbs-3.20-bioc/R/bin/R CMD check --install=check:ORFhunteR.install-out.txt --library=/home/biocbuild/bbs-3.20-bioc/R/site-library --timings ORFhunteR_1.14.0.tar.gz StartedAt: 2025-04-01 00:40:30 -0400 (Tue, 01 Apr 2025) EndedAt: 2025-04-01 00:49:23 -0400 (Tue, 01 Apr 2025) EllapsedTime: 532.8 seconds RetCode: 0 Status: WARNINGS CheckDir: ORFhunteR.Rcheck Warnings: 1