Package: ORFhunteR Version: 1.14.0 Command: /Library/Frameworks/R.framework/Resources/bin/R CMD INSTALL ORFhunteR StartedAt: 2025-01-27 15:41:16 -0500 (Mon, 27 Jan 2025) EndedAt: 2025-01-27 15:42:47 -0500 (Mon, 27 Jan 2025) EllapsedTime: 90.8 seconds RetCode: 0 Status: OK