Package: ORFhunteR Version: 1.14.0 Command: /Library/Frameworks/R.framework/Resources/bin/R CMD build --keep-empty-dirs --no-resave-data ORFhunteR StartedAt: 2025-02-03 21:01:59 -0500 (Mon, 03 Feb 2025) EndedAt: 2025-02-03 21:07:27 -0500 (Mon, 03 Feb 2025) EllapsedTime: 328.2 seconds RetCode: 0 Status: OK PackageFile: ORFhunteR_1.14.0.tar.gz PackageFileSize: 2.108 MiB