Package: ORFhunteR Version: 1.14.0 Command: rm -rf ORFhunteR.buildbin-libdir && mkdir ORFhunteR.buildbin-libdir && /Users/biocbuild/BBS/utils/build-universal.sh ORFhunteR_1.14.0.tar.gz /Library/Frameworks/R.framework/Resources/bin/R ORFhunteR.buildbin-libdir StartedAt: 2024-11-20 04:41:19 -0500 (Wed, 20 Nov 2024) EndedAt: 2024-11-20 04:42:24 -0500 (Wed, 20 Nov 2024) EllapsedTime: 65.1 seconds RetCode: 0 Status: OK PackageFile: ORFhunteR_1.14.0.tgz PackageFileSize: 1.452 MiB