Package: ORFhunteR Version: 1.14.0 Command: /Library/Frameworks/R.framework/Resources/bin/R CMD INSTALL ORFhunteR StartedAt: 2025-01-27 16:15:01 -0500 (Mon, 27 Jan 2025) EndedAt: 2025-01-27 16:15:51 -0500 (Mon, 27 Jan 2025) EllapsedTime: 49.6 seconds RetCode: 0 Status: OK