Package: ORFhunteR Version: 1.14.0 Command: /Library/Frameworks/R.framework/Resources/bin/R CMD check --install=check:ORFhunteR.install-out.txt --library=/Library/Frameworks/R.framework/Resources/library --no-vignettes --timings ORFhunteR_1.14.0.tar.gz StartedAt: 2025-01-29 03:40:06 -0500 (Wed, 29 Jan 2025) EndedAt: 2025-01-29 03:45:14 -0500 (Wed, 29 Jan 2025) EllapsedTime: 308.7 seconds RetCode: 0 Status: WARNINGS CheckDir: ORFhunteR.Rcheck Warnings: 1