Package: ORFhunteR Version: 1.14.0 Command: /Library/Frameworks/R.framework/Resources/bin/R CMD build --keep-empty-dirs --no-resave-data ORFhunteR StartedAt: 2025-01-28 04:56:18 -0500 (Tue, 28 Jan 2025) EndedAt: 2025-01-28 04:59:05 -0500 (Tue, 28 Jan 2025) EllapsedTime: 167.0 seconds RetCode: 0 Status: OK PackageFile: ORFhunteR_1.14.0.tar.gz PackageFileSize: 2.108 MiB