Package: ORFhunteR Version: 1.14.0 Command: rm -rf ORFhunteR.buildbin-libdir && mkdir ORFhunteR.buildbin-libdir && /Users/biocbuild/BBS/utils/build-universal.sh ORFhunteR_1.14.0.tar.gz /Library/Frameworks/R.framework/Resources/bin/R ORFhunteR.buildbin-libdir StartedAt: 2025-02-05 17:02:17 -0500 (Wed, 05 Feb 2025) EndedAt: 2025-02-05 17:03:12 -0500 (Wed, 05 Feb 2025) EllapsedTime: 54.5 seconds RetCode: 0 Status: OK PackageFile: ORFhunteR_1.14.0.tgz PackageFileSize: 1.452 MiB