Package: OPWeight Version: 1.28.0 Command: /Library/Frameworks/R.framework/Resources/bin/R CMD check --install=check:OPWeight.install-out.txt --library=/Library/Frameworks/R.framework/Resources/library --no-vignettes --timings OPWeight_1.28.0.tar.gz StartedAt: 2025-02-04 07:34:24 -0500 (Tue, 04 Feb 2025) EndedAt: 2025-02-04 07:35:56 -0500 (Tue, 04 Feb 2025) EllapsedTime: 92.1 seconds RetCode: 0 Status: OK CheckDir: OPWeight.Rcheck Warnings: 0