Package: OPWeight Version: 1.28.0 Command: /Library/Frameworks/R.framework/Resources/bin/R CMD build --keep-empty-dirs --no-resave-data OPWeight StartedAt: 2025-03-31 20:45:40 -0400 (Mon, 31 Mar 2025) EndedAt: 2025-03-31 20:50:52 -0400 (Mon, 31 Mar 2025) EllapsedTime: 312.4 seconds RetCode: 0 Status: OK PackageFile: OPWeight_1.28.0.tar.gz PackageFileSize: 489 KiB