Package: OPWeight Version: 1.28.0 Command: rm -rf OPWeight.buildbin-libdir && mkdir OPWeight.buildbin-libdir && /Users/biocbuild/BBS/utils/build-universal.sh OPWeight_1.28.0.tar.gz /Library/Frameworks/R.framework/Resources/bin/R OPWeight.buildbin-libdir StartedAt: 2025-02-04 13:42:14 -0500 (Tue, 04 Feb 2025) EndedAt: 2025-02-04 13:42:30 -0500 (Tue, 04 Feb 2025) EllapsedTime: 15.8 seconds RetCode: 0 Status: OK PackageFile: OPWeight_1.28.0.tgz PackageFileSize: 520.5 KiB