Package: OPWeight Version: 1.28.0 Command: rm -rf OPWeight.buildbin-libdir && mkdir OPWeight.buildbin-libdir && /Users/biocbuild/BBS/utils/build-universal.sh OPWeight_1.28.0.tar.gz /Library/Frameworks/R.framework/Resources/bin/R OPWeight.buildbin-libdir StartedAt: 2025-02-05 17:02:11 -0500 (Wed, 05 Feb 2025) EndedAt: 2025-02-05 17:02:17 -0500 (Wed, 05 Feb 2025) EllapsedTime: 6.8 seconds RetCode: 0 Status: OK PackageFile: OPWeight_1.28.0.tgz PackageFileSize: 520.6 KiB