Package: OLINgui Version: 1.80.0 Command: F:\biocbuild\bbs-3.20-bioc\R\bin\R.exe CMD INSTALL OLINgui StartedAt: 2025-03-31 15:31:30 -0400 (Mon, 31 Mar 2025) EndedAt: 2025-03-31 15:31:39 -0400 (Mon, 31 Mar 2025) EllapsedTime: 9.0 seconds RetCode: 0 Status: OK