Package: OLINgui Version: 1.80.0 Command: chmod a+r OLINgui -R && F:\biocbuild\bbs-3.20-bioc\R\bin\R.exe CMD build --keep-empty-dirs --no-resave-data OLINgui StartedAt: 2025-01-27 20:42:30 -0500 (Mon, 27 Jan 2025) EndedAt: 2025-01-27 20:42:47 -0500 (Mon, 27 Jan 2025) EllapsedTime: 17.0 seconds RetCode: 0 Status: OK PackageFile: OLINgui_1.80.0.tar.gz PackageFileSize: 234.6 KiB