Package: OLINgui Version: 1.80.0 Command: rm -rf OLINgui.buildbin-libdir && mkdir OLINgui.buildbin-libdir && /Users/biocbuild/BBS/utils/build-universal.sh OLINgui_1.80.0.tar.gz /Library/Frameworks/R.framework/Resources/bin/R OLINgui.buildbin-libdir StartedAt: 2025-04-01 12:23:20 -0400 (Tue, 01 Apr 2025) EndedAt: 2025-04-01 12:23:34 -0400 (Tue, 01 Apr 2025) EllapsedTime: 14.2 seconds RetCode: 0 Status: OK PackageFile: OLINgui_1.80.0.tgz PackageFileSize: 364.5 KiB