Package: OLINgui Version: 1.80.0 Command: /Library/Frameworks/R.framework/Resources/bin/R CMD build --keep-empty-dirs --no-resave-data OLINgui StartedAt: 2025-04-01 04:31:05 -0400 (Tue, 01 Apr 2025) EndedAt: 2025-04-01 04:31:20 -0400 (Tue, 01 Apr 2025) EllapsedTime: 14.9 seconds RetCode: 0 Status: OK PackageFile: OLINgui_1.80.0.tar.gz PackageFileSize: 374.2 KiB