Package: OLIN Version: 1.84.0 Command: rm -rf OLIN.buildbin-libdir && mkdir OLIN.buildbin-libdir && /Users/biocbuild/BBS/utils/build-universal.sh OLIN_1.84.0.tar.gz /Library/Frameworks/R.framework/Resources/bin/R OLIN.buildbin-libdir StartedAt: 2025-01-31 13:18:43 -0500 (Fri, 31 Jan 2025) EndedAt: 2025-01-31 13:18:56 -0500 (Fri, 31 Jan 2025) EllapsedTime: 13.0 seconds RetCode: 0 Status: OK PackageFile: OLIN_1.84.0.tgz PackageFileSize: 2.72 MiB