Package: OLIN Version: 1.84.0 Command: /Library/Frameworks/R.framework/Resources/bin/R CMD check --install=check:OLIN.install-out.txt --library=/Library/Frameworks/R.framework/Resources/library --no-vignettes --timings OLIN_1.84.0.tar.gz StartedAt: 2024-11-20 00:45:01 -0500 (Wed, 20 Nov 2024) EndedAt: 2024-11-20 00:49:34 -0500 (Wed, 20 Nov 2024) EllapsedTime: 273.0 seconds RetCode: 0 Status: OK CheckDir: OLIN.Rcheck Warnings: 0