Package: OLIN Version: 1.84.0 Command: /Library/Frameworks/R.framework/Resources/bin/R CMD build --keep-empty-dirs --no-resave-data OLIN StartedAt: 2025-02-04 04:53:12 -0500 (Tue, 04 Feb 2025) EndedAt: 2025-02-04 04:53:54 -0500 (Tue, 04 Feb 2025) EllapsedTime: 41.9 seconds RetCode: 0 Status: OK PackageFile: OLIN_1.84.0.tar.gz PackageFileSize: 2.554 MiB