Package: OLIN Version: 1.84.0 Command: rm -rf OLIN.buildbin-libdir && mkdir OLIN.buildbin-libdir && /Users/biocbuild/BBS/utils/build-universal.sh OLIN_1.84.0.tar.gz /Library/Frameworks/R.framework/Resources/bin/R OLIN.buildbin-libdir StartedAt: 2025-02-01 16:03:58 -0500 (Sat, 01 Feb 2025) EndedAt: 2025-02-01 16:04:05 -0500 (Sat, 01 Feb 2025) EllapsedTime: 6.8 seconds RetCode: 0 Status: OK PackageFile: OLIN_1.84.0.tgz PackageFileSize: 2.716 MiB