Package: OGRE Version: 1.10.0 Command: /home/biocbuild/R/R/bin/R CMD INSTALL OGRE StartedAt: 2025-02-03 20:58:30 -0000 (Mon, 03 Feb 2025) EndedAt: 2025-02-03 20:59:32 -0000 (Mon, 03 Feb 2025) EllapsedTime: 62.1 seconds RetCode: 0 Status: OK