Package: OGRE Version: 1.10.0 Command: /home/biocbuild/R/R/bin/R CMD build --keep-empty-dirs --no-resave-data OGRE StartedAt: 2025-01-28 02:03:10 -0000 (Tue, 28 Jan 2025) EndedAt: 2025-01-28 02:05:34 -0000 (Tue, 28 Jan 2025) EllapsedTime: 143.2 seconds RetCode: 0 Status: OK PackageFile: OGRE_1.10.0.tar.gz PackageFileSize: 1.577 MiB