Package: OGRE Version: 1.10.0 Command: chmod a+r OGRE -R && F:\biocbuild\bbs-3.20-bioc\R\bin\R.exe CMD build --keep-empty-dirs --no-resave-data OGRE StartedAt: 2025-01-27 20:42:13 -0500 (Mon, 27 Jan 2025) EndedAt: 2025-01-27 20:44:34 -0500 (Mon, 27 Jan 2025) EllapsedTime: 140.6 seconds RetCode: 0 Status: OK PackageFile: OGRE_1.10.0.tar.gz PackageFileSize: 1.533 MiB