Package: OGRE Version: 1.10.0 Command: /home/biocbuild/bbs-3.20-bioc/R/bin/R CMD check --install=check:OGRE.install-out.txt --library=/home/biocbuild/bbs-3.20-bioc/R/site-library --timings OGRE_1.10.0.tar.gz StartedAt: 2025-02-04 00:48:14 -0500 (Tue, 04 Feb 2025) EndedAt: 2025-02-04 00:56:21 -0500 (Tue, 04 Feb 2025) EllapsedTime: 487.5 seconds RetCode: 0 Status: OK CheckDir: OGRE.Rcheck Warnings: 0