Package: OGRE Version: 1.10.0 Command: /home/biocbuild/bbs-3.20-bioc/R/bin/R CMD build --keep-empty-dirs --no-resave-data --md5 OGRE StartedAt: 2025-02-03 18:32:51 -0500 (Mon, 03 Feb 2025) EndedAt: 2025-02-03 18:34:28 -0500 (Mon, 03 Feb 2025) EllapsedTime: 97.1 seconds RetCode: 0 Status: OK PackageFile: OGRE_1.10.0.tar.gz PackageFileSize: 1.715 MiB