Package: OGRE Version: 1.10.0 Command: /Library/Frameworks/R.framework/Resources/bin/R CMD INSTALL OGRE StartedAt: 2025-01-27 16:05:55 -0500 (Mon, 27 Jan 2025) EndedAt: 2025-01-27 16:07:41 -0500 (Mon, 27 Jan 2025) EllapsedTime: 106.5 seconds RetCode: 0 Status: OK