Package: OGRE Version: 1.10.0 Command: rm -rf OGRE.buildbin-libdir && mkdir OGRE.buildbin-libdir && /Users/biocbuild/BBS/utils/build-universal.sh OGRE_1.10.0.tar.gz /Library/Frameworks/R.framework/Resources/bin/R OGRE.buildbin-libdir StartedAt: 2025-01-28 13:57:59 -0500 (Tue, 28 Jan 2025) EndedAt: 2025-01-28 14:01:04 -0500 (Tue, 28 Jan 2025) EllapsedTime: 185.5 seconds RetCode: 0 Status: OK PackageFile: OGRE_1.10.0.tgz PackageFileSize: 1.253 MiB