Package: OGRE Version: 1.10.0 Command: /Library/Frameworks/R.framework/Resources/bin/R CMD build --keep-empty-dirs --no-resave-data OGRE StartedAt: 2025-01-28 04:42:53 -0500 (Tue, 28 Jan 2025) EndedAt: 2025-01-28 04:45:04 -0500 (Tue, 28 Jan 2025) EllapsedTime: 131.3 seconds RetCode: 0 Status: OK PackageFile: OGRE_1.10.0.tar.gz PackageFileSize: 1.73 MiB