Package: OCplus Version: 1.80.0 Command: /Library/Frameworks/R.framework/Resources/bin/R CMD INSTALL OCplus StartedAt: 2025-01-27 16:24:20 -0500 (Mon, 27 Jan 2025) EndedAt: 2025-01-27 16:24:38 -0500 (Mon, 27 Jan 2025) EllapsedTime: 18.1 seconds RetCode: 0 Status: OK