Package: OCplus Version: 1.80.0 Command: /Library/Frameworks/R.framework/Resources/bin/R CMD build --keep-empty-dirs --no-resave-data OCplus StartedAt: 2025-01-27 21:11:47 -0500 (Mon, 27 Jan 2025) EndedAt: 2025-01-27 21:12:42 -0500 (Mon, 27 Jan 2025) EllapsedTime: 55.1 seconds RetCode: 0 Status: OK PackageFile: OCplus_1.80.0.tar.gz PackageFileSize: 9.585 MiB