Package: OCplus Version: 1.80.0 Command: /Library/Frameworks/R.framework/Resources/bin/R CMD check --install=check:OCplus.install-out.txt --library=/Library/Frameworks/R.framework/Resources/library --no-vignettes --timings OCplus_1.80.0.tar.gz StartedAt: 2025-04-02 03:01:26 -0400 (Wed, 02 Apr 2025) EndedAt: 2025-04-02 03:02:42 -0400 (Wed, 02 Apr 2025) EllapsedTime: 76.1 seconds RetCode: 0 Status: OK CheckDir: OCplus.Rcheck Warnings: 0