Package: OCplus Version: 1.80.0 Command: /Library/Frameworks/R.framework/Resources/bin/R CMD build --keep-empty-dirs --no-resave-data OCplus StartedAt: 2025-04-01 04:29:07 -0400 (Tue, 01 Apr 2025) EndedAt: 2025-04-01 04:29:42 -0400 (Tue, 01 Apr 2025) EllapsedTime: 35.5 seconds RetCode: 0 Status: OK PackageFile: OCplus_1.80.0.tar.gz PackageFileSize: 9.585 MiB