Package: NuPoP Version: 2.14.0 Command: /home/biocbuild/R/R/bin/R CMD check --install=check:NuPoP.install-out.txt --library=/home/biocbuild/R/R/site-library --no-vignettes --timings NuPoP_2.14.0.tar.gz StartedAt: 2025-02-04 09:27:20 -0000 (Tue, 04 Feb 2025) EndedAt: 2025-02-04 09:28:00 -0000 (Tue, 04 Feb 2025) EllapsedTime: 40.1 seconds RetCode: 0 Status: OK CheckDir: NuPoP.Rcheck Warnings: 0