Package: NuPoP Version: 2.14.0 Command: F:\biocbuild\bbs-3.20-bioc\R\bin\R.exe CMD INSTALL NuPoP StartedAt: 2025-01-30 15:54:46 -0500 (Thu, 30 Jan 2025) EndedAt: 2025-01-30 15:55:07 -0500 (Thu, 30 Jan 2025) EllapsedTime: 21.0 seconds RetCode: 0 Status: OK