Package: NuPoP Version: 2.13.0 Command: chmod a+r NuPoP -R && F:\biocbuild\bbs-3.20-bioc\R\bin\R.exe CMD build --keep-empty-dirs --no-resave-data NuPoP StartedAt: 2024-06-09 20:49:36 -0400 (Sun, 09 Jun 2024) EndedAt: 2024-06-09 20:50:16 -0400 (Sun, 09 Jun 2024) EllapsedTime: 40.5 seconds RetCode: 0 Status: OK PackageFile: NuPoP_2.13.0.tar.gz PackageFileSize: 6.036 MiB