Package: NuPoP Version: 2.14.0 Command: /Library/Frameworks/R.framework/Resources/bin/R CMD check --install=check:NuPoP.install-out.txt --library=/Library/Frameworks/R.framework/Resources/library --no-vignettes --timings NuPoP_2.14.0.tar.gz StartedAt: 2025-02-04 07:22:33 -0500 (Tue, 04 Feb 2025) EndedAt: 2025-02-04 07:23:37 -0500 (Tue, 04 Feb 2025) EllapsedTime: 63.3 seconds RetCode: 0 Status: OK CheckDir: NuPoP.Rcheck Warnings: 0