Package: NoRCE Version: 1.18.0 Command: /Library/Frameworks/R.framework/Resources/bin/R CMD INSTALL NoRCE StartedAt: 2025-03-31 15:45:28 -0400 (Mon, 31 Mar 2025) EndedAt: 2025-03-31 15:46:50 -0400 (Mon, 31 Mar 2025) EllapsedTime: 81.8 seconds RetCode: 0 Status: OK