Package: NewWave Version: 1.16.0 Command: /home/biocbuild/R/R/bin/R CMD build --keep-empty-dirs --no-resave-data NewWave StartedAt: 2025-01-31 01:22:14 -0000 (Fri, 31 Jan 2025) EndedAt: 2025-01-31 01:25:56 -0000 (Fri, 31 Jan 2025) EllapsedTime: 221.3 seconds RetCode: 0 Status: OK PackageFile: NewWave_1.16.0.tar.gz PackageFileSize: 57.87 KiB