Package: NewWave Version: 1.16.0 Command: /Library/Frameworks/R.framework/Resources/bin/R CMD build --keep-empty-dirs --no-resave-data NewWave StartedAt: 2025-01-30 21:25:13 -0500 (Thu, 30 Jan 2025) EndedAt: 2025-01-30 21:31:12 -0500 (Thu, 30 Jan 2025) EllapsedTime: 358.5 seconds RetCode: 0 Status: OK PackageFile: NewWave_1.16.0.tar.gz PackageFileSize: 99.27 KiB