Package: NeuCA Version: 1.12.0 Command: /home/biocbuild/bbs-3.20-bioc/R/bin/R CMD INSTALL NeuCA StartedAt: 2025-01-30 15:30:54 -0500 (Thu, 30 Jan 2025) EndedAt: 2025-01-30 15:31:19 -0500 (Thu, 30 Jan 2025) EllapsedTime: 25.5 seconds RetCode: 0 Status: OK