Package: NeuCA Version: 1.12.0 Command: /Library/Frameworks/R.framework/Resources/bin/R CMD check --install=check:NeuCA.install-out.txt --library=/Library/Frameworks/R.framework/Resources/library --no-vignettes --timings NeuCA_1.12.0.tar.gz StartedAt: 2025-04-01 06:29:10 -0400 (Tue, 01 Apr 2025) EndedAt: 2025-04-01 06:35:27 -0400 (Tue, 01 Apr 2025) EllapsedTime: 376.6 seconds RetCode: 0 Status: OK CheckDir: NeuCA.Rcheck Warnings: 0