Package: NeuCA Version: 1.12.0 Command: rm -rf NeuCA.buildbin-libdir && mkdir NeuCA.buildbin-libdir && /Users/biocbuild/BBS/utils/build-universal.sh NeuCA_1.12.0.tar.gz /Library/Frameworks/R.framework/Resources/bin/R NeuCA.buildbin-libdir StartedAt: 2025-04-01 12:22:16 -0400 (Tue, 01 Apr 2025) EndedAt: 2025-04-01 12:23:11 -0400 (Tue, 01 Apr 2025) EllapsedTime: 55.0 seconds RetCode: 0 Status: OK PackageFile: NeuCA_1.12.0.tgz PackageFileSize: 3.419 MiB