Package: NeuCA Version: 1.12.0 Command: /Library/Frameworks/R.framework/Resources/bin/R CMD build --keep-empty-dirs --no-resave-data NeuCA StartedAt: 2025-01-31 04:35:30 -0500 (Fri, 31 Jan 2025) EndedAt: 2025-01-31 04:36:31 -0500 (Fri, 31 Jan 2025) EllapsedTime: 61.1 seconds RetCode: 1 Status: ERROR PackageFile: None PackageFileSize: NA